BEGIN:VCALENDAR
VERSION:2.0
PRODID:-//SVP Zumikon //NONSGML Events //EN
CALSCALE:GREGORIAN
X-WR-CALNAME:SVP Zumikon
BEGIN:VEVENT
CREATED:20260220T135046Z
UID:1164
DTEND:20260822T000000
DTSTART:20260822T000000
DTSTAMP:20260422T063650Z
LOCATION:
DESCRIPTION:
SUMMARY:Grillplausch SVP Zumikon
ORGANIZER:
URL;VALUE=URI:https://www.svp-zumikon.ch/termine/grillplausch-svp-zumikon-5/
TRANSP:OPAQUE
END:VEVENT
END:VCALENDAR
