BEGIN:VCALENDAR
VERSION:2.0
PRODID:-//SVP Zumikon //NONSGML Events //EN
CALSCALE:GREGORIAN
X-WR-CALNAME:SVP Zumikon
BEGIN:VEVENT
CREATED:20260220T135046Z
UID:1165
DTEND:20260901T000000
DTSTART:20260901T000000
DTSTAMP:20260423T233639Z
LOCATION:
DESCRIPTION:
SUMMARY:Vorstandssitzung
ORGANIZER:
URL;VALUE=URI:https://www.svp-zumikon.ch/termine/vorstandssitzung-23/
TRANSP:OPAQUE
END:VEVENT
END:VCALENDAR
