BEGIN:VCALENDAR
VERSION:2.0
PRODID:-//SVP Zumikon //NONSGML Events //EN
CALSCALE:GREGORIAN
X-WR-CALNAME:SVP Zumikon
BEGIN:VEVENT
CREATED:20200302T192207Z
UID:865
DTEND:20221126T000000
DTSTART:20221126T000000
DTSTAMP:20260423T233702Z
LOCATION:
DESCRIPTION:
SUMMARY:Gemeindeversammlung
ORGANIZER:
URL;VALUE=URI:https://www.svp-zumikon.ch/termine/gemeindeversammlung-6/
TRANSP:OPAQUE
END:VEVENT
END:VCALENDAR
